BEGIN:VCALENDAR
VERSION:2.0
PRODID:-//ChamberMaster//Event Calendar 2.0//EN
METHOD:PUBLISH
X-PUBLISHED-TTL:P3D
REFRESH-INTERVAL:P3D
CALSCALE:GREGORIAN
BEGIN:VEVENT
DTSTART:20230525T114500Z
DTEND:20230525T133000Z
X-MICROSOFT-CDO-ALLDAYEVENT:FALSE
SUMMARY:PAVE Spring Community Breakfast
DESCRIPTION:PAVE (Promoting a Vision for Effingham County) will be hosting their Spring Community Breakfast at the Effingham High School Cafetorium to raise awareness about PAVE\, recruit volunteers\, and inform patrons about the wonderful work that is going on throughout Effingham County.\n\nThrough PAVE\, we have many dedicated volunteers working towards a 20-year vision of making Effingham County the best place to live\, work\, and thrive. PAVE is doing excellent work through their five Action Teams: Parks & Recreation\, Housing\, Workforce & Education\, Childcare\, and Festivals & Events.
X-ALT-DESC;FMTTYPE=text/html:<p style="box-sizing: border-box\; margin-top: 0px\; margin-bottom: 1rem\; color: rgb(4\, 61\, 93)\; font-family: sofia-pro\, sans-serif\; font-size: 16px\;">PAVE (Promoting a Vision for Effingham County) will be hosting their Spring Community Breakfast at the Effingham High School Cafetorium to raise awareness about PAVE\, recruit volunteers\, and inform patrons about the wonderful work that is going on throughout Effingham County.</p>\n\n<p style="box-sizing: border-box\; margin-top: 0px\; margin-bottom: 1rem\; color: rgb(4\, 61\, 93)\; font-family: sofia-pro\, sans-serif\; font-size: 16px\;">Through PAVE\, we have many dedicated volunteers working towards a 20-year vision of making Effingham County the best place to live\, work\, and thrive. PAVE is doing excellent work through their five Action Teams: Parks &amp\; Recreation\, Housing\, Workforce &amp\; Education\, Childcare\, and Festivals &amp\; Events.</p>\n
LOCATION:Effingham High School Cafetorium 1301 Grove Ave.\, Effingham
UID:e.1548.10818
SEQUENCE:3
DTSTAMP:20260424T143719Z
URL:http://effinghamccoc.chambermaster.com/events/details/pave-spring-community-breakfast-10818
END:VEVENT

END:VCALENDAR
