BEGIN:VCALENDAR
VERSION:2.0
PRODID:-//ChamberMaster//Event Calendar 2.0//EN
METHOD:PUBLISH
X-PUBLISHED-TTL:P3D
REFRESH-INTERVAL:P3D
CALSCALE:GREGORIAN
BEGIN:VEVENT
DTSTART:20130620T170000Z
DTEND:20130620T180000Z
X-MICROSOFT-CDO-ALLDAYEVENT:FALSE
SUMMARY:Lunch & Learn Series
DESCRIPTION:"We Choose Health Grant Worksite Wellness Initiative"\n\nSpeaker:  Sarah Coleman\, Worksite Wellness Consultant with South Central Illinois Health Coalition
X-ALT-DESC;FMTTYPE=text/html:&quot\;We Choose Health Grant Worksite Wellness Initiative&quot\;<br />\nSpeaker:&nbsp\; Sarah Coleman\, Worksite Wellness Consultant with South Central Illinois Health Coalition
LOCATION:Effingham Elks Lodge 2102 South Banker Effingham\, IL 62401
UID:e.1548.13
SEQUENCE:3
DTSTAMP:20260422T043334Z
URL:http://effinghamccoc.chambermaster.com/events/details/lunch-learn-series-06-20-2013-13
END:VEVENT

END:VCALENDAR
