BEGIN:VCALENDAR
VERSION:2.0
PRODID:-//ChamberMaster//Event Calendar 2.0//EN
METHOD:PUBLISH
X-PUBLISHED-TTL:P3D
REFRESH-INTERVAL:P3D
CALSCALE:GREGORIAN
BEGIN:VEVENT
DTSTART:20231017T140000Z
DTEND:20231017T170000Z
X-MICROSOFT-CDO-ALLDAYEVENT:FALSE
SUMMARY:Leading a Multigenerational Workforce
DESCRIPTION:Your team rocks\, but getting everyone on the same page? That's a different story!\n\nWith each generation bringing unique vibes to the table\, leading a dynamic bunch can be a puzzle. How do you solve it and create a harmony like no other?\n\nJoin our lively session and discover how to:\n\n\n	Explore Workforce Evolution: Dive into the wild world of changing workforce dynamics.\n	Decode the Generational Mix: Meet the Fab Four generations and their work-life wishes.\n	Master the Platinum Rule: Learn the secret code for team harmony.\n	Unleash the QTIP Magic: Say hello to a magical method that bonds teams.\n	Connect with the Whole Worker: Discover tips to ignite their passion.\n	Tackle Challenges Head-On: Share struggles and top-notch management hacks.\n	Solve & Celebrate Together: Engage in mind-bending group activities.\n\n\nReady to level up your leadership game? Let's decode the multigenerational magic and unite your squad like never before.\n\n\n\nSpeaker:\n\nJeanne Dau\, founder of Dau Consulting\, will teach the course. She has managed multiple generations and has taught Millennials and Gen Z's  at Eastern Illinois University and with ClassE\, a Coles County high school entrepreneurship class. She has trained thousands of managers on leadership\, communication\, conflict management and entrepreneurship.
X-ALT-DESC;FMTTYPE=text/html:<p>Your team rocks\, but getting everyone on the same page? That&#39\;s a different story!</p>\n\n<p>With each generation bringing unique vibes to the table\, leading a dynamic bunch can be a puzzle. How do you solve it and create a harmony like no other?</p>\n\n<p><strong>Join our lively session and discover how to:</strong></p>\n\n<ul>\n	<li><strong>Explore Workforce Evolution</strong>: Dive into the wild world of changing workforce dynamics.</li>\n	<li><strong>Decode the Generational Mix</strong>: Meet the Fab Four generations and their work-life wishes.</li>\n	<li><strong>Master the Platinum Rule</strong>: Learn the secret code for team harmony.</li>\n	<li><strong>Unleash the QTIP Magic</strong>: Say hello to a magical method that bonds teams.</li>\n	<li><strong>Connect with the Whole Worker</strong>: Discover tips to ignite their passion.</li>\n	<li><strong>Tackle Challenges Head-On</strong>: Share struggles and top-notch management hacks.</li>\n	<li><strong>Solve &amp\; Celebrate Together</strong>: Engage in mind-bending group activities.</li>\n</ul>\n\n<p>Ready to level up your leadership game? Let&#39\;s decode the multigenerational magic and unite your squad like never before.<br />\n<br />\n<strong>Speaker:</strong><br />\nJeanne Dau\, founder of Dau Consulting\, will teach the course. She has managed multiple generations and has taught Millennials and Gen Z&rsquo\;s &nbsp\;at Eastern Illinois University and with ClassE\, a Coles County high school entrepreneurship class. She has trained thousands of managers on leadership\, communication\, conflict management and&nbsp\;entrepreneurship.</p>\n
LOCATION:Holiday Inn Effingham (Lincoln) 1301 Avenue of Mid America
UID:e.1548.10862
SEQUENCE:3
DTSTAMP:20260421T170608Z
URL:http://effinghamccoc.chambermaster.com/events/details/leading-a-multigenerational-workforce-10862
END:VEVENT

END:VCALENDAR
