BEGIN:VCALENDAR
VERSION:2.0
PRODID:-//ChamberMaster//Event Calendar 2.0//EN
METHOD:PUBLISH
X-PUBLISHED-TTL:P3D
REFRESH-INTERVAL:P3D
CALSCALE:GREGORIAN
BEGIN:VEVENT
DTSTART:20121024T120000Z
DTEND:20121024T140000Z
X-MICROSOFT-CDO-ALLDAYEVENT:FALSE
SUMMARY:Community Celebration Breakfast
DESCRIPTION:Join Effingham County Vision 2020 for their Fall Community Celebration of Excellence Breakfast! \n\n\n\nCome... Learn... Be Inspired\n\n\n\nLaural Manegre is partner with Inside Results\, LLC and master facilitator for The Pacific Institute's flagship curriculum "Investment in Excellence".  She will be presenting "Elect to Reach Your Vision in 2020".  Learn more about the history of Vision 2020 in Effingham County and our goals and benchmarks.  Be among the first community members present as the results of the recent community survey are revealed and discover how you an help reach Vision 2020.
X-ALT-DESC;FMTTYPE=text/html:Join Effingham County Vision 2020 for their Fall Community Celebration of Excellence Breakfast!&nbsp\;<br />\n<br />\n<strong>Come... Learn... Be Inspired</strong><br />\n<br />\nLaural Manegre is&nbsp\;partner with Inside Results\, LLC and master facilitator for The Pacific Institute&#39\;s flagship curriculum &quot\;Investment in Excellence&quot\;.&nbsp\; She will be presenting &quot\;Elect to Reach Your Vision in 2020&quot\;.&nbsp\; Learn more about the history of Vision 2020 in Effingham County and our goals and benchmarks.&nbsp\; Be among the first community members present as the results of the recent community survey are revealed and discover how you an help reach Vision 2020.&nbsp\; 
LOCATION:Keller Convention Center 1202 North Keller Drive Effingham\, IL 62401
UID:e.1548.405
SEQUENCE:3
DTSTAMP:20260421T033009Z
URL:http://effinghamccoc.chambermaster.com/events/details/community-celebration-breakfast-10-24-2012-405
END:VEVENT

END:VCALENDAR
